BEGIN:VCALENDAR
VERSION:2.0
PRODID:-//PYVOBJECT//NONSGML Version 1//EN
BEGIN:VEVENT
UID:28398:5772
DTSTART:20220106T000000
DTEND:20221222T000000
DESCRIPTION:Kesselheisse Knacker und Braunschweiger\, dazu handgedrehte Sal
 z- und Knoblauchstangerl von der Bäckerei "Klausmühle" in Pregarten.
DTSTAMP:20260424T230116Z
SUMMARY:Jeden Donnerstag
END:VEVENT
END:VCALENDAR
