BEGIN:VCALENDAR
VERSION:2.0
PRODID:-//PYVOBJECT//NONSGML Version 1//EN
BEGIN:VEVENT
UID:28398:5773
DTSTART:20230403T000000
DTEND:20231027T000000
DESCRIPTION:ab 10:30\nSteckerlfische in der Gusenhütt'n\, Makrelen sowie D
 onaufische!
DTSTAMP:20260424T230505Z
SUMMARY:jeden Freitag\, von ca. Anfang April bis Ende Oktober
END:VEVENT
END:VCALENDAR
